BEGIN:VCALENDAR
VERSION:2.0
PRODID:-//ZContent.net//ZapCalLib 1.0//EN
CALSCALE:GREGORIAN
METHOD:PUBLISH
BEGIN:VEVENT
SUMMARY:Launch of the UN-SDSN Europe Sustainable Development Report 2022 (4
 th edition) | In the framework of the Towards Europe 2030 conference
DTSTART:20221209T140000
DTEND:20221209T152500
UID:2026-04-21-19-14-35-0-@calendar.boell.de
DTSTAMP:20260421T171435
DESCRIPTION:▶ Siehe Veranstaltungsbeschreibung – Externe Veranstaltung
END:VEVENT
END:VCALENDAR
