BEGIN:VCALENDAR
VERSION:2.0
PRODID:-//ZContent.net//ZapCalLib 1.0//EN
CALSCALE:GREGORIAN
METHOD:PUBLISH
BEGIN:VEVENT
SUMMARY:Humanitarian Crisis in Nagorno-Karabakh & the Armenian-Azerbaijani 
 Conflict
DTSTART:20230118T160000
DTEND:20230118T170000
UID:2026-04-19-19-32-20-0-@calendar.boell.de
DTSTAMP:20260419T173220
DESCRIPTION:▶ Online-Veranstaltung – Heinrich-Böll-Stiftung Tbilisi - 
 Region Südkaukasus
END:VEVENT
END:VCALENDAR
