BEGIN:VCALENDAR
VERSION:2.0
PRODID:-//ZContent.net//ZapCalLib 1.0//EN
CALSCALE:GREGORIAN
METHOD:PUBLISH
BEGIN:VEVENT
SUMMARY:Advancing a Feminist Paris-Compatible Financial System Reform
DTSTART:20230307T080000
DTEND:20230307T093000
UID:2026-04-26-06-15-23-0-@calendar.boell.de
DTSTAMP:20260426T041523
DESCRIPTION:▶ Siehe Veranstaltungsbeschreibung – 
END:VEVENT
END:VCALENDAR
