BEGIN:VCALENDAR
VERSION:2.0
PRODID:-//ZContent.net//ZapCalLib 1.0//EN
CALSCALE:GREGORIAN
METHOD:PUBLISH
BEGIN:VEVENT
SUMMARY:La politique étrangère féministe : Des ambitions aux actions 
DTSTART:20230406T090000
DTEND:20230406T180000
UID:2026-04-21-05-01-37-0-@calendar.boell.de
DTSTAMP:20260421T030137
DESCRIPTION:Paris – 
END:VEVENT
END:VCALENDAR
