BEGIN:VCALENDAR
VERSION:2.0
PRODID:-//ZContent.net//ZapCalLib 1.0//EN
CALSCALE:GREGORIAN
METHOD:PUBLISH
BEGIN:VEVENT
SUMMARY:This Time Must Be Different: Reforming the International Debt Archi
 tecture for Green and Inclusive Development
DTSTART:20230418T181500
DTEND:20230418T193000
UID:2026-04-21-10-25-07-0-@calendar.boell.de
DTSTAMP:20260421T082507
DESCRIPTION:▶ Siehe Veranstaltungsbeschreibung – New York – Externe V
 eranstaltung
END:VEVENT
END:VCALENDAR
