BEGIN:VCALENDAR
VERSION:2.0
PRODID:-//ZContent.net//ZapCalLib 1.0//EN
CALSCALE:GREGORIAN
METHOD:PUBLISH
BEGIN:VEVENT
SUMMARY:In der Zukunft schwelgen        | #2 Worauf kommt es im Leben an?
DTSTART:20230601T170000
DTEND:20230601T190000
UID:2026-04-26-05-21-59-0-@calendar.boell.de
DTSTAMP:20260426T032159
DESCRIPTION:â–¶ Siehe Veranstaltungsbeschreibung â€“ Berlin â€“ Heinrich-BÃ
 ¶ll-Stiftung - Bundesstiftung Berlin
END:VEVENT
END:VCALENDAR
