BEGIN:VCALENDAR
VERSION:2.0
PRODID:-//ZContent.net//ZapCalLib 1.0//EN
CALSCALE:GREGORIAN
METHOD:PUBLISH
BEGIN:VEVENT
SUMMARY:Greece after the elections: new dynamics, persisting challenges
DTSTART:20230627T173000
DTEND:20230627T183000
UID:2026-04-21-12-45-26-0-@calendar.boell.de
DTSTAMP:20260421T104526
DESCRIPTION:▶ Online-Veranstaltung – Heinrich-Böll-Stiftung - Bundesst
 iftung Berlin
END:VEVENT
END:VCALENDAR
