BEGIN:VCALENDAR
VERSION:2.0
PRODID:-//ZContent.net//ZapCalLib 1.0//EN
CALSCALE:GREGORIAN
METHOD:PUBLISH
BEGIN:VEVENT
SUMMARY:The South Caucasus Regional Conference on Memory Politics | Remembe
 ring Public Participation in the South Caucasus
DTSTART:20231026T114500
DTEND:20231026T160000
UID:2026-04-21-17-12-52-0-@calendar.boell.de
DTSTAMP:20260421T151252
DESCRIPTION:▶ Siehe Veranstaltungsbeschreibung – 
END:VEVENT
END:VCALENDAR
