BEGIN:VCALENDAR
VERSION:2.0
PRODID:-//ZContent.net//ZapCalLib 1.0//EN
CALSCALE:GREGORIAN
METHOD:PUBLISH
BEGIN:VEVENT
SUMMARY:China’s Climate Transition: Outlook 2023  | Online Press Conferen
 ce and Report Launch
DTSTART:20231127T150000
DTEND:20231127T163000
UID:2026-04-21-21-08-51-0-@calendar.boell.de
DTSTAMP:20260421T190851
DESCRIPTION:▶ Online-Veranstaltung – Heinrich-Böll-Stiftung - Bundesst
 iftung Berlin
END:VEVENT
END:VCALENDAR
