BEGIN:VCALENDAR
VERSION:2.0
PRODID:-//ZContent.net//ZapCalLib 1.0//EN
CALSCALE:GREGORIAN
METHOD:PUBLISH
BEGIN:VEVENT
SUMMARY:Dorpie | Free screening and panel discussion at Saartjie Baartman C
 entre
DTSTART:20240308T103000
DTEND:20240308T140000
UID:2026-04-24-09-42-01-0-@calendar.boell.de
DTSTAMP:20260424T074201
DESCRIPTION:▶ Siehe Veranstaltungsbeschreibung – Kapstadt – Heinrich-
 Böll-Stiftung Kapstadt - Südafrika\, Namibia\, Simbabwe
END:VEVENT
END:VCALENDAR
