BEGIN:VCALENDAR
VERSION:2.0
PRODID:-//ZContent.net//ZapCalLib 1.0//EN
CALSCALE:GREGORIAN
METHOD:PUBLISH
BEGIN:VEVENT
SUMMARY:12th European History Forum | When does contemporary history begin?
  The historical-scientific examination of the 1990s in Europe
DTSTART:20240521T100000
DTEND:20240522T120000
UID:2026-04-23-02-31-28-0-@calendar.boell.de
DTSTAMP:20260423T003128
DESCRIPTION:Heinrich-Böll-Stiftung - Bundesstiftung Berlin – Berlin – 
 Heinrich-Böll-Stiftung - Bundesstiftung Berlin
END:VEVENT
BEGIN:VEVENT
SUMMARY:12th European History Forum | When does contemporary history begin?
  The historical-scientific examination of the 1990s in Europe
DTSTART:20240521T100000
DTEND:20240521T213000
UID:2026-04-23-00-31-28-1-@calendar.boell.de
DTSTAMP:20260423T003128
DESCRIPTION:Heinrich-Böll-Stiftung - Bundesstiftung Berlin – Berlin – 
 Heinrich-Böll-Stiftung - Bundesstiftung Berlin
END:VEVENT
BEGIN:VEVENT
SUMMARY:12th European History Forum | When does contemporary history begin?
  The historical-scientific examination of the 1990s in Europe
DTSTART:20240522T100000
DTEND:20240522T120000
UID:2026-04-23-00-31-28-2-@calendar.boell.de
DTSTAMP:20260423T003128
DESCRIPTION:Heinrich-Böll-Stiftung - Bundesstiftung Berlin – Berlin – 
 Heinrich-Böll-Stiftung - Bundesstiftung Berlin
END:VEVENT
END:VCALENDAR
