BEGIN:VCALENDAR
VERSION:2.0
PRODID:-//ZContent.net//ZapCalLib 1.0//EN
CALSCALE:GREGORIAN
METHOD:PUBLISH
BEGIN:VEVENT
SUMMARY:Masculinities in the South Caucasus:  Forms, Hierarchies, and Chall
 enges | Book Presentation
DTSTART:20240930T190000
DTEND:20240930T203000
UID:2026-04-22-00-47-00-0-@calendar.boell.de
DTSTAMP:20260421T224700
DESCRIPTION:▶ Siehe Veranstaltungsbeschreibung – Heinrich-Böll-Stiftun
 g - Bundesstiftung Berlin
END:VEVENT
END:VCALENDAR
