BEGIN:VCALENDAR
VERSION:2.0
PRODID:-//ZContent.net//ZapCalLib 1.0//EN
CALSCALE:GREGORIAN
METHOD:PUBLISH
BEGIN:VEVENT
SUMMARY: Contested Mobility Norms in Africa Webinar | Reconciling Visions, 
 Policies and Practice
DTSTART:20241022T140000
DTEND:20241022T153000
UID:2026-04-26-05-22-00-0-@calendar.boell.de
DTSTAMP:20260426T032200
DESCRIPTION:▶ Online-Veranstaltung – Heinrich-Böll-Stiftung - Horn of 
 Africa
END:VEVENT
END:VCALENDAR
