BEGIN:VCALENDAR
VERSION:2.0
PRODID:-//ZContent.net//ZapCalLib 1.0//EN
CALSCALE:GREGORIAN
METHOD:PUBLISH
BEGIN:VEVENT
SUMMARY:Stresstest für Argentiniens Demokratie | Die Bilanz nach einem Jah
 r Milei
DTSTART:20241127T160000
DTEND:20241127T190000
UID:2026-04-26-04-41-43-0-@calendar.boell.de
DTSTAMP:20260426T024143
DESCRIPTION:▶ Online-Veranstaltung – Heinrich-Böll-Stiftung - Bundesst
 iftung Berlin
END:VEVENT
END:VCALENDAR
