BEGIN:VCALENDAR
VERSION:2.0
PRODID:-//ZContent.net//ZapCalLib 1.0//EN
CALSCALE:GREGORIAN
METHOD:PUBLISH
BEGIN:VEVENT
SUMMARY:From democratic resilience to democratic security | A post-2024 dem
 ocracy agenda for the EU
DTSTART:20241030T123000
DTEND:20241030T140000
UID:2026-04-25-01-51-16-0-@calendar.boell.de
DTSTAMP:20260424T235116
DESCRIPTION:▶ Siehe Veranstaltungsbeschreibung – Brüssel – Heinrich-
 Böll-Stiftung Brüssel - Europäische Union
END:VEVENT
END:VCALENDAR
