BEGIN:VCALENDAR
VERSION:2.0
PRODID:-//ZContent.net//ZapCalLib 1.0//EN
CALSCALE:GREGORIAN
METHOD:PUBLISH
BEGIN:VEVENT
SUMMARY:Launch of the Europe Sustainable Development Report 2025 | The stat
 e of sustainable development in Europe and priorities for the new EU leade
 rship
DTSTART:20250129T100000
DTEND:20250129T120000
UID:2026-04-21-12-45-36-0-@calendar.boell.de
DTSTAMP:20260421T104536
DESCRIPTION:▶ Online-Veranstaltung – 
END:VEVENT
END:VCALENDAR
