BEGIN:VCALENDAR
VERSION:2.0
PRODID:-//ZContent.net//ZapCalLib 1.0//EN
CALSCALE:GREGORIAN
METHOD:PUBLISH
BEGIN:VEVENT
SUMMARY:Ökonomie der Fürsorge | Warum wir Wohlstand, Gesundheit und Arbei
 t neu denken müssen
DTSTART:20250402T173000
DTEND:20250402T190000
UID:2026-04-25-06-19-44-0-@calendar.boell.de
DTSTAMP:20260425T041944
DESCRIPTION:Heinrich-Böll-Stiftung - Bundesstiftung Berlin – Berlin – 
 Heinrich-Böll-Stiftung - Bundesstiftung Berlin
END:VEVENT
END:VCALENDAR
