BEGIN:VCALENDAR
VERSION:2.0
PRODID:-//ZContent.net//ZapCalLib 1.0//EN
CALSCALE:GREGORIAN
METHOD:PUBLISH
BEGIN:VEVENT
SUMMARY:Fachkonferenz: Sudan – Frieden und humanitären Schutz zivil denk
 en (Die Veranstaltung ist ausgebucht!) | Ein Dialog mit Expert*innen und A
 kteur*innen aus dem Sudan
DTSTART:20250918T090000
DTEND:20250918T190000
UID:2026-04-20-01-05-40-0-@calendar.boell.de
DTSTAMP:20260419T230540
DESCRIPTION:Berlin – Heinrich-Böll-Stiftung - Bundesstiftung Berlin
END:VEVENT
END:VCALENDAR
