BEGIN:VCALENDAR
VERSION:2.0
PRODID:-//ZContent.net//ZapCalLib 1.0//EN
CALSCALE:GREGORIAN
METHOD:PUBLISH
BEGIN:VEVENT
SUMMARY:SAGA 2025 Dialogue: Layers of Loss, Layers of Life
DTSTART:20250930T163034
DTEND:20250930T210034
UID:2026-04-22-03-23-29-0-@calendar.boell.de
DTSTAMP:20260422T012329
DESCRIPTION:▶ Siehe Veranstaltungsbeschreibung – Seoul – Heinrich-Bö
 ll-Stiftung - Seoul
END:VEVENT
END:VCALENDAR
