BEGIN:VCALENDAR
VERSION:2.0
PRODID:-//ZContent.net//ZapCalLib 1.0//EN
CALSCALE:GREGORIAN
METHOD:PUBLISH
BEGIN:VEVENT
SUMMARY:Haaretz Konferenz Berlin | Bruchlinien und Zukunftsperspektiven: Is
 rael, Gaza und Deutschland in Kriegszeiten und darüber hinaus
DTSTART:20251106T133000
DTEND:20251106T220000
UID:2026-04-26-04-41-42-0-@calendar.boell.de
DTSTAMP:20260426T024142
DESCRIPTION:Berlin – Heinrich-Böll-Stiftung - Bundesstiftung Berlin
END:VEVENT
END:VCALENDAR
