BEGIN:VCALENDAR
VERSION:2.0
PRODID:-//ZContent.net//ZapCalLib 1.0//EN
CALSCALE:GREGORIAN
METHOD:PUBLISH
BEGIN:VEVENT
SUMMARY:Northern EU enlargement in sight? | Seizing momentum in uncertain t
 imes
DTSTART:20251106T124500
DTEND:20251106T134500
UID:2026-04-22-16-44-28-0-@calendar.boell.de
DTSTAMP:20260422T144428
DESCRIPTION:▶ Online-Veranstaltung – Heinrich-Böll-Stiftung Brüssel -
  Europäische Union
END:VEVENT
END:VCALENDAR
