BEGIN:VCALENDAR
VERSION:2.0
PRODID:-//ZContent.net//ZapCalLib 1.0//EN
CALSCALE:GREGORIAN
METHOD:PUBLISH
BEGIN:VEVENT
SUMMARY:Boosting citizen participation in the EU energy transition
DTSTART:20251112T093000
DTEND:20251112T124000
UID:2026-04-26-06-15-23-0-@calendar.boell.de
DTSTAMP:20260426T041523
DESCRIPTION:▶ Siehe Veranstaltungsbeschreibung – Brüssel – 
END:VEVENT
END:VCALENDAR
