BEGIN:VCALENDAR
VERSION:2.0
PRODID:-//ZContent.net//ZapCalLib 1.0//EN
CALSCALE:GREGORIAN
METHOD:PUBLISH
BEGIN:VEVENT
SUMMARY:Einladung zur internationalen Konferenz â€žQueere Menschenrechte sc
 hÃ¼tzen gegen den globalen Backlash â€“ die Verantwortung deutscher Entwic
 klungszusammenarbeit"
DTSTART:20251030T160000
DTEND:20251030T190000
UID:2026-04-24-05-34-58-0-@calendar.boell.de
DTSTAMP:20260424T033458
DESCRIPTION:â–¶ Siehe Veranstaltungsbeschreibung â€“ Berlin â€“ Heinrich-BÃ
 ¶ll-Stiftung: Feminism & Gender Democracy | Global Unit
END:VEVENT
END:VCALENDAR
