BEGIN:VCALENDAR
VERSION:2.0
PRODID:-//ZContent.net//ZapCalLib 1.0//EN
CALSCALE:GREGORIAN
METHOD:PUBLISH
BEGIN:VEVENT
SUMMARY:Για την ακροδεξιά τρομοκρατία στην Ε
 λλάδα: «Η νύχτα που έφυγε ο Παύλος» του Ξ
 νοφώντα Κοντιάδη
DTSTART:20251027T183000
DTEND:20251027T203000
UID:2026-04-26-04-41-41-0-@calendar.boell.de
DTSTAMP:20260426T024141
DESCRIPTION:▶ Siehe Veranstaltungsbeschreibung – 
END:VEVENT
END:VCALENDAR
