BEGIN:VCALENDAR
VERSION:2.0
PRODID:-//ZContent.net//ZapCalLib 1.0//EN
CALSCALE:GREGORIAN
METHOD:PUBLISH
BEGIN:VEVENT
SUMMARY:Refugee Situations in Asia and Solidarity of Korean Civil Society
DTSTART:20251128T100000
DTEND:20251128T170000
UID:2026-04-25-01-50-48-0-@calendar.boell.de
DTSTAMP:20260424T235048
DESCRIPTION:▶ Siehe Veranstaltungsbeschreibung – Seoul – Heinrich-Bö
 ll-Stiftung - Seoul
END:VEVENT
END:VCALENDAR
