BEGIN:VCALENDAR
VERSION:2.0
PRODID:-//ZContent.net//ZapCalLib 1.0//EN
CALSCALE:GREGORIAN
METHOD:PUBLISH
BEGIN:VEVENT
SUMMARY:EU-India Summit 2026 | Outcomes, Gaps, and the Road Ahead
DTSTART:20260129T140000
DTEND:20260129T153000
UID:2026-04-21-19-14-38-0-@calendar.boell.de
DTSTAMP:20260421T171438
DESCRIPTION:▶ Online-Veranstaltung – Heinrich-Böll-Stiftung - Bundesst
 iftung Berlin
END:VEVENT
END:VCALENDAR
