BEGIN:VCALENDAR
VERSION:2.0
PRODID:-//ZContent.net//ZapCalLib 1.0//EN
CALSCALE:GREGORIAN
METHOD:PUBLISH
BEGIN:VEVENT
SUMMARY:Solidarity and Intervention in the Era of Unconstrained Power | Hum
 an Security Salon 8
DTSTART:20260212T110000
DTEND:20260212T123000
UID:2026-04-22-03-23-15-0-@calendar.boell.de
DTSTAMP:20260422T012315
DESCRIPTION:Vienna – Global Unit for Human Security
END:VEVENT
END:VCALENDAR
