BEGIN:VCALENDAR
VERSION:2.0
PRODID:-//ZContent.net//ZapCalLib 1.0//EN
CALSCALE:GREGORIAN
METHOD:PUBLISH
BEGIN:VEVENT
SUMMARY:Launch of the Europe Sustainable Development Report 2026 | SDG Path
 ways to 2030 and Mid-Century
DTSTART:20260226T101500
DTEND:20260226T111500
UID:2026-04-21-12-45-42-0-@calendar.boell.de
DTSTAMP:20260421T104542
DESCRIPTION:▶ Siehe Veranstaltungsbeschreibung – Brüssel – Externe V
 eranstaltung
END:VEVENT
END:VCALENDAR
