BEGIN:VCALENDAR
VERSION:2.0
PRODID:-//ZContent.net//ZapCalLib 1.0//EN
CALSCALE:GREGORIAN
METHOD:PUBLISH
BEGIN:VEVENT
SUMMARY:Defending equality in an age of democratic decline | Reframing Euro
 pe’s Gender Equality Strategy for 2026–2030
DTSTART:20260319T170000
DTEND:20260319T180000
UID:2026-04-22-16-44-29-0-@calendar.boell.de
DTSTAMP:20260422T144429
DESCRIPTION:▶ Online-Veranstaltung – Heinrich-Böll-Stiftung Brüssel -
  Europäische Union
END:VEVENT
END:VCALENDAR
