BEGIN:VCALENDAR
VERSION:2.0
PRODID:-//ZContent.net//ZapCalLib 1.0//EN
CALSCALE:GREGORIAN
METHOD:PUBLISH
BEGIN:VEVENT
SUMMARY:Towards an Agenda for Peace in Sudan  | Reflections on Internationa
 l Mediation and Civilian Convergence
DTSTART:20260413T163000
DTEND:20260413T183000
UID:2026-04-24-20-55-11-0-@calendar.boell.de
DTSTAMP:20260424T185511
DESCRIPTION:Berlin – Heinrich-Böll-Stiftung - Horn of Africa
END:VEVENT
END:VCALENDAR
