BEGIN:VCALENDAR
VERSION:2.0
PRODID:-//ZContent.net//ZapCalLib 1.0//EN
CALSCALE:GREGORIAN
METHOD:PUBLISH
BEGIN:VEVENT
SUMMARY:Empowering and protecting vulnerable households on the path to deca
 rbonisation: From gas grids to renewable heat | European Sustainable Energ
 y Week 2026 (EUSEW)
DTSTART:20260611T140000
DTEND:20260611T153000
UID:2026-04-25-13-54-42-0-@calendar.boell.de
DTSTAMP:20260425T115442
DESCRIPTION:▶ Siehe Veranstaltungsbeschreibung – Brüssel – Heinrich-
 Böll-Stiftung Brüssel - Europäische Union
END:VEVENT
END:VCALENDAR
