BEGIN:VCALENDAR
VERSION:2.0
PRODID:-//ZContent.net//ZapCalLib 1.0//EN
CALSCALE:GREGORIAN
METHOD:PUBLISH
BEGIN:VEVENT
SUMMARY:Theoretische und praktische Ansätze gender-sensitiver Planung im e
 uropäischen Diskurs: DoktorandInnen-Workshop
DTSTART:20120425T100000
DTEND:20120425T180000
UID:2026-04-23-11-04-38-0-@calendar.boell.de
DTSTAMP:20260423T090438
DESCRIPTION:Externe Veranstaltung
END:VEVENT
END:VCALENDAR
