BEGIN:VCALENDAR
VERSION:2.0
PRODID:-//ZContent.net//ZapCalLib 1.0//EN
CALSCALE:GREGORIAN
METHOD:PUBLISH
BEGIN:VEVENT
SUMMARY:Energía, cambio climático y desarrollo  sostenible: Impacto sobre
  los derechos  humanos | Conversatorio
DTSTART:20181126T180000
DTEND:20181126T200000
UID:2026-04-24-02-47-30-0-@calendar.boell.de
DTSTAMP:20260424T004730
DESCRIPTION:Bogotá – 
END:VEVENT
END:VCALENDAR
