BEGIN:VCALENDAR
VERSION:2.0
PRODID:-//ZContent.net//ZapCalLib 1.0//EN
CALSCALE:GREGORIAN
METHOD:PUBLISH
BEGIN:VEVENT
SUMMARY:Energía, cambio climático y desarrollo sostenible: Impactos sobre
  los derechos humanos | Conversatorio
DTSTART:20181129T080000
DTEND:20181129T100000
UID:2026-04-23-08-37-23-0-@calendar.boell.de
DTSTAMP:20260423T063723
DESCRIPTION:Medellín – 
END:VEVENT
END:VCALENDAR
