BEGIN:VCALENDAR
VERSION:2.0
PRODID:-//ZContent.net//ZapCalLib 1.0//EN
CALSCALE:GREGORIAN
METHOD:PUBLISH
BEGIN:VEVENT
SUMMARY:Premio Alemán de Periodismo Walter Reuter México-Alemania | Cerem
 onia de Entrega de Premios 2018
DTSTART:20181122T200000
DTEND:20181122T223000
UID:2026-04-23-08-37-30-0-@calendar.boell.de
DTSTAMP:20260423T063730
DESCRIPTION:Mexiko-Stadt – Heinrich-Böll-Stiftung Mexiko-Stadt - Mexiko 
 und Karibik
END:VEVENT
END:VCALENDAR
