BEGIN:VCALENDAR
VERSION:2.0
PRODID:-//ZContent.net//ZapCalLib 1.0//EN
CALSCALE:GREGORIAN
METHOD:PUBLISH
BEGIN:VEVENT
SUMMARY:¿Para qué nos sirven hoy los Derechos Humanos? - A 70 años de la
  Declaración Universal | Mesa Redonda
DTSTART:20181203T110000
DTEND:20181203T130000
UID:2026-04-24-07-00-15-0-@calendar.boell.de
DTSTAMP:20260424T050015
DESCRIPTION:Mexiko-Stadt – Heinrich-Böll-Stiftung Mexiko-Stadt - Mexiko 
 und Karibik
END:VEVENT
END:VCALENDAR
