BEGIN:VCALENDAR
VERSION:2.0
PRODID:-//ZContent.net//ZapCalLib 1.0//EN
CALSCALE:GREGORIAN
METHOD:PUBLISH
BEGIN:VEVENT
SUMMARY:Modelos de búsqueda de personas desaparecidas en América Latina
DTSTART:20181205T120000
DTEND:20181205T140000
UID:2026-04-23-00-23-32-0-@calendar.boell.de
DTSTAMP:20260422T222332
DESCRIPTION:Washington D.C. – 
END:VEVENT
END:VCALENDAR
