BEGIN:VCALENDAR
VERSION:2.0
PRODID:-//ZContent.net//ZapCalLib 1.0//EN
CALSCALE:GREGORIAN
METHOD:PUBLISH
BEGIN:VEVENT
SUMMARY:El Muro del Sur: El Programa Frontera Sur de México, su impacto en
  los migrantes y la participación de los EEUU
DTSTART:20181211T083000
DTEND:20181211T100000
UID:2026-04-23-08-37-30-0-@calendar.boell.de
DTSTAMP:20260423T063730
DESCRIPTION:Washington D.C. – Heinrich-Böll-Stiftung Mexiko-Stadt - Mexi
 ko und Karibik
END:VEVENT
END:VCALENDAR
