BEGIN:VCALENDAR
VERSION:2.0
PRODID:-//ZContent.net//ZapCalLib 1.0//EN
CALSCALE:GREGORIAN
METHOD:PUBLISH
BEGIN:VEVENT
SUMMARY:El aire que respiro | Lanzamiento documental
DTSTART:20181213T183000
DTEND:20181213T203000
UID:2026-04-23-17-55-02-0-@calendar.boell.de
DTSTAMP:20260423T155502
DESCRIPTION:Bogotá – 
END:VEVENT
END:VCALENDAR
