BEGIN:VCALENDAR
VERSION:2.0
PRODID:-//ZContent.net//ZapCalLib 1.0//EN
CALSCALE:GREGORIAN
METHOD:PUBLISH
BEGIN:VEVENT
SUMMARY:Mujeres defensoras de cuerpos y territorios: cruce de violencias y 
 luchas | Valparaíso,Chile 
DTSTART:20181219T100000
DTEND:20181219T220000
UID:2026-04-26-04-41-44-0-@calendar.boell.de
DTSTAMP:20260426T024144
DESCRIPTION:
END:VEVENT
END:VCALENDAR
