BEGIN:VCALENDAR
VERSION:2.0
PRODID:-//ZContent.net//ZapCalLib 1.0//EN
CALSCALE:GREGORIAN
METHOD:PUBLISH
BEGIN:VEVENT
SUMMARY:Justicia Transicional en México | Un taller con Wolfgang Kaleck 
DTSTART:20190110T140000
DTEND:20190110T160000
UID:2026-04-23-01-06-16-0-@calendar.boell.de
DTSTAMP:20260422T230616
DESCRIPTION:Mexiko-Stadt – Heinrich-Böll-Stiftung Mexiko-Stadt - Mexiko 
 und Karibik
END:VEVENT
END:VCALENDAR
