BEGIN:VCALENDAR
VERSION:2.0
PRODID:-//ZContent.net//ZapCalLib 1.0//EN
CALSCALE:GREGORIAN
METHOD:PUBLISH
BEGIN:VEVENT
SUMMARY:Seminario de discusión sobre el Proyecto de principios rectores pa
 ra la búsqueda de personas desaparecidas | Seminario 
DTSTART:20190212T080000
DTEND:20190212T170000
UID:2026-04-24-02-48-03-0-@calendar.boell.de
DTSTAMP:20260424T004803
DESCRIPTION:Bogotá – 
END:VEVENT
END:VCALENDAR
