BEGIN:VCALENDAR
VERSION:2.0
PRODID:-//ZContent.net//ZapCalLib 1.0//EN
CALSCALE:GREGORIAN
METHOD:PUBLISH
BEGIN:VEVENT
SUMMARY:Democracia y territorio: perspectivas sobre la participación ciuda
 dana en asuntos ambientales | Conversatorio
DTSTART:20190314T140000
DTEND:20190314T173000
UID:2026-04-23-12-25-38-0-@calendar.boell.de
DTSTAMP:20260423T102538
DESCRIPTION:Medellín – 
END:VEVENT
END:VCALENDAR
