BEGIN:VCALENDAR
VERSION:2.0
PRODID:-//ZContent.net//ZapCalLib 1.0//EN
CALSCALE:GREGORIAN
METHOD:PUBLISH
BEGIN:VEVENT
SUMMARY:Ambiente, Naturaleza, Derechos Humanos Y Cambio Climático en Las A
 méricas | Conversatorio
DTSTART:20190925T180000
DTEND:20190925T193000
UID:2026-04-21-10-08-20-0-@calendar.boell.de
DTSTAMP:20260421T080820
DESCRIPTION:▶ Siehe Veranstaltungsbeschreibung – Washington D.C. – 
END:VEVENT
END:VCALENDAR
