BEGIN:VCALENDAR
VERSION:2.0
PRODID:-//ZContent.net//ZapCalLib 1.0//EN
CALSCALE:GREGORIAN
METHOD:PUBLISH
BEGIN:VEVENT
SUMMARY:Hagamos justicia ante la desaparición forzada | Conversatorio
DTSTART:20191114T143000
DTEND:20191114T173000
UID:2026-04-21-10-25-17-0-@calendar.boell.de
DTSTAMP:20260421T082517
DESCRIPTION:▶ Siehe Veranstaltungsbeschreibung – Bogotá – Heinrich-B
 öll-Stiftung Bogota - Kolumbien
END:VEVENT
END:VCALENDAR
