BEGIN:VCALENDAR
VERSION:2.0
PRODID:-//ZContent.net//ZapCalLib 1.0//EN
CALSCALE:GREGORIAN
METHOD:PUBLISH
BEGIN:VEVENT
SUMMARY:El viento del Este llega con revoluciones. Multinacionales y transi
 ción con energía eólica en territorio Wayúu  | Conversatorio
DTSTART:20200311T173000
DTEND:20200311T193000
UID:2026-04-20-01-05-42-0-@calendar.boell.de
DTSTAMP:20260419T230542
DESCRIPTION:▶ Siehe Veranstaltungsbeschreibung – Bogotá – Heinrich-B
 öll-Stiftung Bogota - Kolumbien
END:VEVENT
END:VCALENDAR
