BEGIN:VCALENDAR
VERSION:2.0
PRODID:-//ZContent.net//ZapCalLib 1.0//EN
CALSCALE:GREGORIAN
METHOD:PUBLISH
BEGIN:VEVENT
SUMMARY:Cocina pública: Por el rescate de la memoria de las Ollas Comunes 
 en dictadura
DTSTART:20200314T180000
DTEND:20200315T170000
UID:2026-04-26-04-41-45-0-@calendar.boell.de
DTSTAMP:20260426T024145
DESCRIPTION:Santiago de Chile – 
END:VEVENT
END:VCALENDAR
