BEGIN:VCALENDAR
VERSION:2.0
PRODID:-//ZContent.net//ZapCalLib 1.0//EN
CALSCALE:GREGORIAN
METHOD:PUBLISH
BEGIN:VEVENT
SUMMARY:Entrevista a Elena Anníbali | Festival Internacional de Poesía de
  Medellín
DTSTART:20200902T180000
DTEND:20200902T200000
UID:2026-04-22-01-38-37-0-@calendar.boell.de
DTSTAMP:20260421T233837
DESCRIPTION:▶ Siehe Veranstaltungsbeschreibung – Kolumbien – 
END:VEVENT
END:VCALENDAR
