BEGIN:VCALENDAR
VERSION:2.0
PRODID:-//ZContent.net//ZapCalLib 1.0//EN
CALSCALE:GREGORIAN
METHOD:PUBLISH
BEGIN:VEVENT
SUMMARY:Cinema Queer México
DTSTART:20201005T000000
DTEND:20201101T235959
UID:2026-04-21-22-26-50-0-@calendar.boell.de
DTSTAMP:20260421T202650
DESCRIPTION:▶ Online-Veranstaltung – Heinrich-Böll-Stiftung Mexiko-Sta
 dt - Mexiko und Karibik
END:VEVENT
END:VCALENDAR
