BEGIN:VCALENDAR
VERSION:2.0
PRODID:-//ZContent.net//ZapCalLib 1.0//EN
CALSCALE:GREGORIAN
METHOD:PUBLISH
BEGIN:VEVENT
SUMMARY:Minería del oro, territorio y conflicto en Colombia | Conversatori
 o virtual
DTSTART:20201009T140000
DTEND:20201009T150000
UID:2026-04-21-12-45-43-0-@calendar.boell.de
DTSTAMP:20260421T104543
DESCRIPTION:▶ Siehe Veranstaltungsbeschreibung – Kolumbien – 
END:VEVENT
END:VCALENDAR
